BEGIN:VCALENDAR
VERSION:2.0
PRODID:-//Ripa Ladrang - ECPv6.7.1//NONSGML v1.0//EN
CALSCALE:GREGORIAN
METHOD:PUBLISH
X-ORIGINAL-URL:https://www.ripaladrang.org
X-WR-CALDESC:Events for Ripa Ladrang
REFRESH-INTERVAL;VALUE=DURATION:PT1H
X-Robots-Tag:noindex
X-PUBLISHED-TTL:PT1H
BEGIN:VTIMEZONE
TZID:America/New_York
BEGIN:DAYLIGHT
TZOFFSETFROM:-0500
TZOFFSETTO:-0400
TZNAME:EDT
DTSTART:20160313T070000
END:DAYLIGHT
BEGIN:STANDARD
TZOFFSETFROM:-0400
TZOFFSETTO:-0500
TZNAME:EST
DTSTART:20161106T060000
END:STANDARD
END:VTIMEZONE
BEGIN:VEVENT
DTSTART;TZID=America/New_York:20160704T191500
DTEND;TZID=America/New_York:20160704T211500
DTSTAMP:20260421T091848
CREATED:20160426T022958Z
LAST-MODIFIED:20160428T010830Z
UID:3501-1467659700-1467666900@www.ripaladrang.org
SUMMARY:Sangye Menla Teaching and Meditation with Dungsey Lhuntrul Rinpoche
DESCRIPTION:Sangye Menla Teaching and Meditation\nMedicine Buddha (Sangye Menla) Teaching and Meditation. In the Vajrayana tradition the Medicine Buddha Sangye Menla takes a special place in the hearts of devotees. Specializing in the curing of diseases\, both physical and mental – of which confusion is the root cause – the Medicine Buddha is also the Buddha of wisdom. \nREGISTER TODAY
URL:https://www.ripaladrang.org/event/sangye-menla-teaching-and-meditation-with-dungsey-lhuntrul-rinpoche/
LOCATION:CA
CATEGORIES:Activity,Ceremony,Meditation,Talk,Workshop
ATTACH;FMTTYPE=image/jpeg:https://ripaladrang.s3.us-west-1.amazonaws.com/wp-content/uploads/2016/02/15195931/unnamed-3.jpg
END:VEVENT
BEGIN:VEVENT
DTSTART;TZID=America/New_York:20160703T100000
DTEND;TZID=America/New_York:20160703T123000
DTSTAMP:20260421T091848
CREATED:20160426T031109Z
LAST-MODIFIED:20160426T031109Z
UID:3516-1467540000-1467549000@www.ripaladrang.org
SUMMARY:Talk on the Four Aspects of Gesar
DESCRIPTION:TALK ON THE FOUR ASPECTS OF GESAR\nThe Enlightened Aspects of King Gesar include Magnetizing\, Pacifying\, Enriching and Wrathful. \nREGISTER TODAY
URL:https://www.ripaladrang.org/event/talk-on-the-four-aspects-of-gesar-2/
LOCATION:Berkeley Shambhala Meditation Center\, 2288 Fulton St #202\, Berkeley\, CA\, 94720\, United States
CATEGORIES:Activity,Celebration,Ceremony,Meditation,Talk,Workshop
ATTACH;FMTTYPE=image/jpeg:https://ripaladrang.s3.us-west-1.amazonaws.com/wp-content/uploads/2016/02/15195931/unnamed-3.jpg
END:VEVENT
BEGIN:VEVENT
DTSTART;TZID=America/New_York:20160702T100000
DTEND;TZID=America/New_York:20160702T123000
DTSTAMP:20260421T091848
CREATED:20160426T030818Z
LAST-MODIFIED:20160426T030818Z
UID:3514-1467453600-1467462600@www.ripaladrang.org
SUMMARY:Talk on the Four Aspects of Gesar
DESCRIPTION:TALK ON THE FOUR ASPECTS OF GESAR\nThe Enlightened Aspects of King Gesar include Magnetizing\, Pacifying\, Enriching and Wrathful.\ \nREGISTER TODAY
URL:https://www.ripaladrang.org/event/talk-on-the-four-aspects-of-gesar/
LOCATION:Berkeley Shambhala Meditation Center\, 2288 Fulton St #202\, Berkeley\, CA\, 94720\, United States
CATEGORIES:Activity,Board Meeting,Ceremony,Meditation,Ritual,Talk,Workshop
ATTACH;FMTTYPE=image/jpeg:https://ripaladrang.s3.us-west-1.amazonaws.com/wp-content/uploads/2016/02/15195931/unnamed-3.jpg
END:VEVENT
BEGIN:VEVENT
DTSTART;TZID=America/New_York:20160701T190000
DTEND;TZID=America/New_York:20160701T210000
DTSTAMP:20260421T091848
CREATED:20160426T030521Z
LAST-MODIFIED:20160427T013923Z
UID:3513-1467399600-1467406800@www.ripaladrang.org
SUMMARY:Talk on the Dakini and Talk on the Four Aspects of Gesar
DESCRIPTION:TALK ON THE DAKINI AND TALK ON THE FOUR ASPECTS OF GESAR\nThe Enlightened Aspects of King Gesar include Magnetizing\, Pacifying\, Enriching and Wrathful. \nREGISTER TODAY
URL:https://www.ripaladrang.org/event/talk-on-the-dakini-and-talk-on-the-four-aspects-of-gesar-2/
LOCATION:Orgyen Dorje Den\, 2244 Santa Clara Ave\, Alameda\, CA\, 94501 \, United States
CATEGORIES:Activity,Celebration,Ceremony,Meditation,Ritual,Talk,Workshop
ATTACH;FMTTYPE=image/jpeg:https://ripaladrang.s3.us-west-1.amazonaws.com/wp-content/uploads/2016/02/15195931/unnamed-3.jpg
END:VEVENT
BEGIN:VEVENT
DTSTART;TZID=America/New_York:20160630T190000
DTEND;TZID=America/New_York:20160630T210000
DTSTAMP:20260421T091848
CREATED:20160426T030156Z
LAST-MODIFIED:20160427T013854Z
UID:3510-1467313200-1467320400@www.ripaladrang.org
SUMMARY:Talk on the Dakini and Talk on the Four Aspects of Gesar
DESCRIPTION:TALK ON THE DAKINI AND TALK ON THE FOUR ASPECTS OF GESAR\nThe Enlightened Aspects of King Gesar include Magnetizing\, Pacifying\, Enriching and Wrathful. \nREGISTER TODAY
URL:https://www.ripaladrang.org/event/talk-on-the-dakini-and-talk-on-the-four-aspects-of-gesar/
LOCATION:Orgyen Dorje Den\, 2244 Santa Clara Ave\, Alameda\, CA\, 94501 \, United States
CATEGORIES:Activity,Celebration,Ceremony,Meditation,Ritual
ATTACH;FMTTYPE=image/jpeg:https://ripaladrang.s3.us-west-1.amazonaws.com/wp-content/uploads/2016/02/15195931/unnamed-3.jpg
END:VEVENT
BEGIN:VEVENT
DTSTART;TZID=America/New_York:20160626T100000
DTEND;TZID=America/New_York:20160626T163000
DTSTAMP:20260421T091848
CREATED:20160426T025606Z
LAST-MODIFIED:20160428T011110Z
UID:3509-1466935200-1466958600@www.ripaladrang.org
SUMMARY:Sangye Menla Empowerment and Teaching with Dungsey Lhuntrul Rinpoche
DESCRIPTION:Sangye Menla Empowerment and Teaching \nMedicine Buddha (Sangye Menla) Empowerment and Teaching. In the Vajrayana tradition the Medicine Buddha Sangye Menla takes a special place in the hearts of devotees. Specializing in the curing of diseases\, both physical and mental – of which confusion is the root cause – the Medicine Buddha is also the Buddha of wisdom. \nREGISTER TODAY
URL:https://www.ripaladrang.org/event/sangye-menla-empowerment-and-teaching-with-dungsey-lhuntrul-rinpoche-3/
LOCATION:Loyola Marymount University\,  1 LMU Drive\, Ahmanson Auditorium\, University Hall - UNH 1000\, Los Angeles\, CA\, 90045\, United States
CATEGORIES:Activity,Celebration,Ceremony,Meditation,Ritual,Talk,Workshop
ATTACH;FMTTYPE=image/jpeg:https://ripaladrang.s3.us-west-1.amazonaws.com/wp-content/uploads/2016/02/15195931/unnamed-3.jpg
END:VEVENT
BEGIN:VEVENT
DTSTART;TZID=America/New_York:20160624T190000
DTEND;TZID=America/New_York:20160624T210000
DTSTAMP:20260421T091848
CREATED:20160426T025130Z
LAST-MODIFIED:20160428T011145Z
UID:3507-1466794800-1466802000@www.ripaladrang.org
SUMMARY:Vajrasattva Healing Ceremony with Dungsey Lhuntrul Rinpoche
DESCRIPTION:Vajrasattva Healing Ceremony \nBuddhist Purification and Healing Ceremony (Vajrasattva). Vajrasattva practice is a tantric meditation done for the purification of karma. It is undertaken with a bodhichitta aim to purify all our karma in order to reach enlightenment as quickly as possible to help all sentient beings. \nREGISTER TODAY
URL:https://www.ripaladrang.org/event/vajrasattva-healing-ceremony-with-dungsey-lhuntrul-rinpoche-2/
LOCATION:Loyola Marymount University\,  1 LMU Drive\, Ahmanson Auditorium\, University Hall - UNH 1000\, Los Angeles\, CA\, 90045\, United States
CATEGORIES:Activity,Ceremony,Meditation,Ritual,Workshop
ATTACH;FMTTYPE=image/jpeg:https://ripaladrang.s3.us-west-1.amazonaws.com/wp-content/uploads/2016/02/15195931/unnamed-3.jpg
END:VEVENT
BEGIN:VEVENT
DTSTART;TZID=America/New_York:20160618T100000
DTEND;TZID=America/New_York:20160618T160000
DTSTAMP:20260421T091848
CREATED:20160426T023740Z
LAST-MODIFIED:20160428T011300Z
UID:3505-1466244000-1466265600@www.ripaladrang.org
SUMMARY:Sangye Menla Empowerment and Teaching with Dungsey Lhuntrul Rinpoche
DESCRIPTION:Sangye Menla Empowerment and Teaching \nMedicine Buddha (Sangye Menla) Empowerment and Teaching. In the Vajrayana tradition the Medicine Buddha Sangye Menla takes a special place in the hearts of devotees. Specializing in the curing of diseases\, both physical and mental – of which confusion is the root cause – the Medicine Buddha is also the Buddha of wisdom. \nREGISTER TODAY
URL:https://www.ripaladrang.org/event/sangye-menla-empowerment-and-teaching-with-dungsey-lhuntrul-rinpoche/
LOCATION:Tibet House\, 22 West 15th Street\, New York\, NY\, 10011\, United States
CATEGORIES:Activity,Celebration,Ceremony,Meditation,Ritual,Workshop
ATTACH;FMTTYPE=image/jpeg:https://ripaladrang.s3.us-west-1.amazonaws.com/wp-content/uploads/2016/02/15195931/unnamed-3.jpg
END:VEVENT
BEGIN:VEVENT
DTSTART;TZID=America/New_York:20160617T190000
DTEND;TZID=America/New_York:20160617T210000
DTSTAMP:20260421T091848
CREATED:20160426T023452Z
LAST-MODIFIED:20160428T011322Z
UID:3504-1466190000-1466197200@www.ripaladrang.org
SUMMARY:Vajrasattva Healing Ceremony with Dungsey Lhuntrul Rinpoche
DESCRIPTION:Vajrasattva Healing Ceremony\nBuddhist Purification and Healing Ceremony (Vajrasattva). Vajrasattva practice is a tantric meditation performed for the purification of karma. It is undertaken with a bodhichitta aim to purify all of our karma in order to reach enlightenment as quickly as possible and to benefit all sentient beings. This ancient ceremony is practiced to connect us with our own inner healthiness\, encouraging us to regain the balance and equanimity that promotes good health and well being. \nREGISTER TODAY
URL:https://www.ripaladrang.org/event/vajrasattva-healing-ceremony-with-dungsey-lhuntrul-rinpoche/
LOCATION:Tibet House\, 22 West 15th Street\, New York\, NY\, 10011\, United States
CATEGORIES:Activity,Ceremony,Meditation,Ritual,Workshop
ATTACH;FMTTYPE=image/jpeg:https://ripaladrang.s3.us-west-1.amazonaws.com/wp-content/uploads/2016/02/15195931/unnamed-3.jpg
END:VEVENT
BEGIN:VEVENT
DTSTART;VALUE=DATE:20160610
DTEND;VALUE=DATE:20160613
DTSTAMP:20260421T091848
CREATED:20160114T211647Z
LAST-MODIFIED:20160118T193127Z
UID:3068-1465516800-1465775999@www.ripaladrang.org
SUMMARY:Shiné / Shamatha
DESCRIPTION:Calm-abiding meditation\n A seminar to learn and develop sitting meditation practice. Meditation is the basis for personal and spiritual development in many religious and secular traditions. It helps pacify the restlessness of the mind\, and contributes to creating focus and clarity. \nFor beginners as well as regular meditators \nWith Nathalie Bourquin
URL:https://www.ripaladrang.org/event/shine-shamatha/
LOCATION:The Ripa International Center (RIC)\,  Hilfigweg 10\, CH – 3172 Niederwangen\,  Bern\, Switzerland
CATEGORIES:Meditation
ATTACH;FMTTYPE=image/jpeg:https://ripaladrang.s3.us-west-1.amazonaws.com/wp-content/uploads/2015/11/12080056/IMG_4297.jpg
END:VEVENT
BEGIN:VEVENT
DTSTART;VALUE=DATE:20160513
DTEND;VALUE=DATE:20160519
DTSTAMP:20260421T091848
CREATED:20160114T210358Z
LAST-MODIFIED:20160114T210358Z
UID:3065-1463097600-1463615999@www.ripaladrang.org
SUMMARY:Nyung Né – Ritual Fasting
DESCRIPTION:With Dungsey Lhuntrul Dechen Gyurmey Rinpoche\nTwo cycles : May 13th – 16th or May 13th – 18th\nNyung Ne is a traditional Tibetan therapeutic fasting practice\, based on prayers to Avalokiteshvara / Chenrezig\, the Buddha of Compassion\, with sessions of silence and teachings. This cleansing ritual is aimed at all those who want to connect with the compassionate qualities of their minds and of loving kindness.
URL:https://www.ripaladrang.org/event/nyung-ne-ritual-fasting/
LOCATION:The Ripa International Center (RIC)\,  Hilfigweg 10\, CH – 3172 Niederwangen\,  Bern\, Switzerland
CATEGORIES:Activity,Meditation,Ritual
ATTACH;FMTTYPE=image/jpeg:https://ripaladrang.s3.us-west-1.amazonaws.com/wp-content/uploads/2015/12/10150043/IMG_4265.jpg
END:VEVENT
BEGIN:VEVENT
DTSTART;VALUE=DATE:20160409
DTEND;VALUE=DATE:20160411
DTSTAMP:20260421T091848
CREATED:20160114T210053Z
LAST-MODIFIED:20160119T004138Z
UID:3064-1460160000-1460332799@www.ripaladrang.org
SUMMARY:Embracing Life with Openness\, Courage and Compassion
DESCRIPTION:Embracing Life with Openness\, Courage and Compassion: A Buddhist Approach to Engagement in Society  \nWith Dungsey Gyetrul Jigme Rinpoche\nAccording to Buddhist teachings\, the inherent nature of all sentient beings is fundamentally good\, although temporarily veiled by fear\, doubt and mistrust. Embracing our insecurities with openness and loving-kindness\, developing trust in our basic goodness and allowing the gentleness of our humanity to emerge could well be the cornerstone of the inner path that leads to a more compassionate engagement with society. \nRinpoche will give practical advice and guided meditations on techniques that allow us to open up to our basic goodness\, hence laying the foundation to engage in the world with openness\, courage and compassion. \n 
URL:https://www.ripaladrang.org/event/embracing-life-with-openness-courage-and-compassion/
LOCATION:The Ripa International Center (RIC)\,  Hilfigweg 10\, CH – 3172 Niederwangen\,  Bern\, Switzerland
CATEGORIES:Activity,Meditation,Talk
ATTACH;FMTTYPE=image/jpeg:https://ripaladrang.s3.us-west-1.amazonaws.com/wp-content/uploads/2015/12/10150046/IMG_43181.jpg
END:VEVENT
BEGIN:VEVENT
DTSTART;TZID=America/New_York:20160401T200000
DTEND;TZID=America/New_York:20160403T170000
DTSTAMP:20260421T091848
CREATED:20160216T184412Z
LAST-MODIFIED:20160216T184441Z
UID:3131-1459540800-1459702800@www.ripaladrang.org
SUMMARY:Visit to Aix-en-Provence
DESCRIPTION:With Dungsey Gyetrul Jigme Rinpoche \nApril 1st to April 3rd  \nWe are honored to announce that Dungsey Gyetrul Jigme Rinpoche will be visiting Aix-en-Provence for practices and teachings during his European tour this spring \nAccording to Buddhist teachings\, the inherent nature of all beings is fundamentally good\, although temporarily veiled by fear\, doubt and mistrust. We should face our insecurities with openness and kindness\, develop confidence in our basic goodness and  allow our humanity to emerge. This can be be the key to spread compassion in our society. \nRinpoche will give practical advice and guided meditations based on techniques that allow us to open ourselves to our basic goodness\, and thus lay the foundation for an engagement with the world based on openness\, courage and compassion. \nPlease note that teachings with Rinpoche will be given in English with French translation. \nProgram details can be found on the link below.
URL:https://www.ripaladrang.org/event/visit-to-aix-en-provence-2/
LOCATION:Visit Aix-en-Provence\, a Maison Diocésaine - Salle Cana\, Aix-en-Provence\, Provence\, 13100\, France
CATEGORIES:Meditation,Workshop
ATTACH;FMTTYPE=image/jpeg:https://ripaladrang.s3.us-west-1.amazonaws.com/wp-content/uploads/2016/02/16134412/12509113_1742687385950832_8822515214765748432_n.jpg
END:VEVENT
BEGIN:VEVENT
DTSTART;VALUE=DATE:20160218
DTEND;VALUE=DATE:20160221
DTSTAMP:20260421T091848
CREATED:20160114T205241Z
LAST-MODIFIED:20160114T205241Z
UID:3062-1455753600-1456012799@www.ripaladrang.org
SUMMARY:YOGOM ® – Yoga / Meditation
DESCRIPTION:The targeted body and breathing exercises of YOGOM are a natural transition for the practice of sitting Shamatha meditation\, connecting body and mind directly. \nWith François Bertolero (Yoga teacher and developer of this method)
URL:https://www.ripaladrang.org/event/yogom-yoga-meditation/
LOCATION:The Ripa International Center (RIC)\,  Hilfigweg 10\, CH – 3172 Niederwangen\,  Bern\, Switzerland
CATEGORIES:Meditation
ATTACH;FMTTYPE=image/jpeg:https://ripaladrang.s3.us-west-1.amazonaws.com/wp-content/uploads/2015/11/12080056/IMG_4181.jpg
END:VEVENT
END:VCALENDAR